BEGIN:VCALENDAR
VERSION:2.0
PRODID:-//Werkstätte für Orgelbau Mühleisen GmbH - ECPv5.1.6//NONSGML v1.0//EN
CALSCALE:GREGORIAN
METHOD:PUBLISH
X-WR-CALNAME:Werkstätte für Orgelbau Mühleisen GmbH
X-ORIGINAL-URL:https://orgelbau-muehleisen.de/de
X-WR-CALDESC:Veranstaltungen für Werkstätte für Orgelbau Mühleisen GmbH
BEGIN:VTIMEZONE
TZID:Europe/Berlin
BEGIN:DAYLIGHT
TZOFFSETFROM:+0100
TZOFFSETTO:+0200
TZNAME:CEST
DTSTART:20250330T010000
END:DAYLIGHT
BEGIN:STANDARD
TZOFFSETFROM:+0200
TZOFFSETTO:+0100
TZNAME:CET
DTSTART:20251026T010000
END:STANDARD
END:VTIMEZONE
BEGIN:VEVENT
DTSTART;TZID=Europe/Berlin:20250320T193000
DTEND;TZID=Europe/Berlin:20251219T163000
DTSTAMP:20260420T140244
CREATED:20250317T122406Z
LAST-MODIFIED:20250409T184011Z
UID:3727-1742499000-1766161800@orgelbau-muehleisen.de
SUMMARY:Musik in der Dortmunder Reinoldikirche
DESCRIPTION:Informationen finden Sie im Konzertkalender der Dortmunder Reinoldikirche. \nOrgelführungen finden an folgenden Terminen statt: Samstag 29.3.25 und Samstag 17.5.25\, jeweils um 12h. Infos hier.
URL:https://orgelbau-muehleisen.de/de/termin/musik-in-der-dortmunder-reinoldikirche/
LOCATION:St. Reinoldi\, Ostenhellweg 2\, Dortmund\, 44135
END:VEVENT
END:VCALENDAR